BEGIN:VCALENDAR
VERSION:2.0
PRODID:-//eventon.com NONSGML v1.0//EN
CALSCALE:GREGORIAN
METHOD:PUBLISH
BEGIN:VEVENT
UID:69e7986d1ee12
DTSTAMP:20260421T153157Z
DTSTART:20250314
DTEND:20250315
LOCATION:Norddeutsches Zentrum für nachhaltiges Bauen (NZNB) Artilleriestr. 14\,  27283 Verden
SUMMARY:Fachgerechte Strohbaplanung – März 2025
DESCRIPTION:Die Bildungswerkstatt für nachhaltige Entwicklung in Verden (B
 iWeNa) bietet im März 2025 das Seminar Fachgerechte Strohbauplanung an.Die
 ses Angebot beinhaltet ein kompaktes Seminar mit den wesentlichen fachspezi
 fischen Besonderheiten zum Bauen mit Stroh. Folgende Themen werden u.a. beh
 andelt: Einführung Grundlagen (Baustoffeigenschaften\,  Regeln (ETA\,  Lei
 stungserklärung\,  …)\,  System Praxis (Was ist zu beachten\,  Besonderh
 eiten\, [..]\nhttps://fasba.de/events/fachgerechte-strohbaplanung/
URL:https://fasba.de/events/fachgerechte-strohbaplanung/
END:VEVENT
END:VCALENDAR