BEGIN:VCALENDAR
VERSION:2.0
PRODID:-//eventon.com NONSGML v1.0//EN
CALSCALE:GREGORIAN
METHOD:PUBLISH
BEGIN:VEVENT
UID:69e734004417c
DTSTAMP:20260421T082328Z
DTSTART:20240617
DTEND:20240618
LOCATION:EFH / ZFH Uta &amp; Gerd Akazienweg 21\,  14476 Golm
SUMMARY:Fachseminar-Mitmachbaustelle
DESCRIPTION:Liebe Freunde &amp; Interessierte\,  mit unserer fortlaufenden 
 Seminarreihe begleiten wir dieses Jahr das Neubauvorhaben EFH/ZFH in Golm (
 bei Potsdam) bis zur Fertigstellung. Hauptthema des nä. Seminars vom 17. -
  22.06.2024 sind die Lehmunter- und -oberputz an den Außenfassade. Genaue 
 Informationen findet Ihr im anhängenden Flyer. Um möglichst gute theoreti
 sche und[..]\nhttps://fasba.de/events/fachseminar-mitmachbaustelle-2/
URL:https://fasba.de/events/fachseminar-mitmachbaustelle-2/
END:VEVENT
END:VCALENDAR