BEGIN:VCALENDAR
VERSION:2.0
PRODID:-//eventon.com NONSGML v1.0//EN
CALSCALE:GREGORIAN
METHOD:PUBLISH
BEGIN:VEVENT
UID:69ecac6ec0c6b
DTSTAMP:20260425T115838Z
DTSTART:20250509
DTEND:20250510
LOCATION:
SUMMARY:3. Deutscher Strohbautag in Weimar!!!!
DESCRIPTION:Anmeldung und alle Informationen unter:https://strohbautag.de/\
 nhttps://fasba.de/events/deutscher-strohbautag-in-weimar/
URL:https://fasba.de/events/deutscher-strohbautag-in-weimar/
END:VEVENT
END:VCALENDAR