BEGIN:VCALENDAR
VERSION:2.0
PRODID:-//eventon.com NONSGML v1.0//EN
CALSCALE:GREGORIAN
METHOD:PUBLISH
BEGIN:VEVENT
UID:69e74b74231cc
DTSTAMP:20260421T100332Z
DTSTART:20260212T083000Z
DTEND:20260212T163000Z
LOCATION:Online
SUMMARY:Strohgedämmter Holzbau: Mehrgeschossige Projekte planen
DESCRIPTION:Zielgruppe Die Veranstaltung richtet sich an Planende im Bereic
 h Architektur und Konstruktion sowie dem nachhaltigen Bauen. Vorkenntnisse 
 im Holzbau werden empfohlen. Zielsetzung Das Seminar vermittelt Besonderhei
 ten und erste Erfahrungen mit der strohgedämmten Holzbauweise in der Gebä
 udeklasse GK 4. Teilnehmende können die vorgestellte Bauweise fundiert in 
 Erwägung ziehen und bei entsprechender[..]\nhttps://fasba.de/events/strohg
 edaemmter-holzbau-mehrgeschossige-projekte-planen-2/
URL:https://fasba.de/events/strohgedaemmter-holzbau-mehrgeschossige-projekte-planen-2/
END:VEVENT
END:VCALENDAR